BEGIN:VCALENDAR
VERSION:2.0
PRODID:-//Vänsterpartiet Gävle - ECPv6.15.17.1//NONSGML v1.0//EN
CALSCALE:GREGORIAN
METHOD:PUBLISH
X-ORIGINAL-URL:https://gavle.vansterpartiet.se
X-WR-CALDESC:Händelser för Vänsterpartiet Gävle
REFRESH-INTERVAL;VALUE=DURATION:PT1H
X-Robots-Tag:noindex
X-PUBLISHED-TTL:PT1H
BEGIN:VTIMEZONE
TZID:Europe/Stockholm
BEGIN:DAYLIGHT
TZOFFSETFROM:+0100
TZOFFSETTO:+0200
TZNAME:CEST
DTSTART:20180325T010000
END:DAYLIGHT
BEGIN:STANDARD
TZOFFSETFROM:+0200
TZOFFSETTO:+0100
TZNAME:CET
DTSTART:20181028T010000
END:STANDARD
BEGIN:DAYLIGHT
TZOFFSETFROM:+0100
TZOFFSETTO:+0200
TZNAME:CEST
DTSTART:20190331T010000
END:DAYLIGHT
BEGIN:STANDARD
TZOFFSETFROM:+0200
TZOFFSETTO:+0100
TZNAME:CET
DTSTART:20191027T010000
END:STANDARD
BEGIN:DAYLIGHT
TZOFFSETFROM:+0100
TZOFFSETTO:+0200
TZNAME:CEST
DTSTART:20200329T010000
END:DAYLIGHT
BEGIN:STANDARD
TZOFFSETFROM:+0200
TZOFFSETTO:+0100
TZNAME:CET
DTSTART:20201025T010000
END:STANDARD
END:VTIMEZONE
BEGIN:VEVENT
DTSTART;TZID=Europe/Stockholm:20190404T120000
DTEND;TZID=Europe/Stockholm:20190404T130000
DTSTAMP:20260421T231907
CREATED:20190311T120502Z
LAST-MODIFIED:20190311T120502Z
UID:3695-1554379200-1554382800@gavle.vansterpartiet.se
SUMMARY:Jonas Sjöstedt på Högskolan
DESCRIPTION:Vänsterpartiets partiledare talar på högskolan.
URL:https://gavle.vansterpartiet.se/event/jonas-sjostedt-pa-hogskolan/
END:VEVENT
BEGIN:VEVENT
DTSTART;TZID=Europe/Stockholm:20190404T120000
DTEND;TZID=Europe/Stockholm:20190404T130000
DTSTAMP:20260421T231907
CREATED:20190326T100040Z
LAST-MODIFIED:20190326T100040Z
UID:3709-1554379200-1554382800@gavle.vansterpartiet.se
SUMMARY:Jonas Sjöstedt på Högskolan i Gävle
DESCRIPTION:Kom och lyssna på Jonas! \nVänsterpartiet har politiken för att få en vardag som fungerar\, för en ekonomi för alla\, även för dig som är ung och student. Vi tycker att utbildning ska vara tillgänglig för den som vill\, inte bara för en liten klick med redan god ekonomi. Därför har vi drivit på för reformer som bidrar till en trygg\, fungerande studietid. \nI maj är det val igen. Denna gång till EU-parlamentet. Valet handlar om allas vår framtid. Om hur vi tillsammans kan rädda vårt klimat och stoppa högernationalisternas framfart i Europa. Om hur vi skapar ett Europa för alla\, inte bara de rika. \nJonas Sjöstedt kommer till Högskolan i Gävle torsdagen 4 april\, klockan 12\, kan alla intresserade samlas i aulan Valhall.
URL:https://gavle.vansterpartiet.se/event/jonas-sjostedt-pa-hogskolan-i-gavle/
LOCATION:Högskolan i Gävle
END:VEVENT
END:VCALENDAR