BEGIN:VCALENDAR
VERSION:2.0
PRODID:-//Vänsterpartiet Gävle - ECPv6.15.17.1//NONSGML v1.0//EN
CALSCALE:GREGORIAN
METHOD:PUBLISH
X-ORIGINAL-URL:https://gavle.vansterpartiet.se
X-WR-CALDESC:Händelser för Vänsterpartiet Gävle
REFRESH-INTERVAL;VALUE=DURATION:PT1H
X-Robots-Tag:noindex
X-PUBLISHED-TTL:PT1H
BEGIN:VTIMEZONE
TZID:Europe/Stockholm
BEGIN:DAYLIGHT
TZOFFSETFROM:+0100
TZOFFSETTO:+0200
TZNAME:CEST
DTSTART:20180325T010000
END:DAYLIGHT
BEGIN:STANDARD
TZOFFSETFROM:+0200
TZOFFSETTO:+0100
TZNAME:CET
DTSTART:20181028T010000
END:STANDARD
BEGIN:DAYLIGHT
TZOFFSETFROM:+0100
TZOFFSETTO:+0200
TZNAME:CEST
DTSTART:20190331T010000
END:DAYLIGHT
BEGIN:STANDARD
TZOFFSETFROM:+0200
TZOFFSETTO:+0100
TZNAME:CET
DTSTART:20191027T010000
END:STANDARD
BEGIN:DAYLIGHT
TZOFFSETFROM:+0100
TZOFFSETTO:+0200
TZNAME:CEST
DTSTART:20200329T010000
END:DAYLIGHT
BEGIN:STANDARD
TZOFFSETFROM:+0200
TZOFFSETTO:+0100
TZNAME:CET
DTSTART:20201025T010000
END:STANDARD
END:VTIMEZONE
BEGIN:VEVENT
DTSTART;TZID=Europe/Stockholm:20190907T110000
DTEND;TZID=Europe/Stockholm:20190907T123000
DTSTAMP:20260421T163553
CREATED:20190814T211817Z
LAST-MODIFIED:20190814T211852Z
UID:3903-1567854000-1567859400@gavle.vansterpartiet.se
SUMMARY:Prova på feministiskt sjävförsvar
DESCRIPTION:Jämlikhetsforum 7 september 2019 på Silvanum  \nProva på feministiskt självförsvar \nFeministiskt självförsvar är ett sätt att hitta gemensamma lösningar på gemensamma problem. Vi vill öka vår trygghet och livsutrymme. Vi jobbar med verbalt\, mentalt och fysiskt självförsvar. Vårt fysiska självförsvar är inte enbart slag och sparkar utan även kroppsspråk\, där det handlar om att känna sig trygg i sin egen kropp och att lära känna sina gränser\, finna sin egen styrka och ta sig rätten att använda den. Alla deltar efter egen förmåga. ALLA kan försvara sig. En funktionsnedsättning är inget hinder för att delta. \nMålgrupp: Alla kvinnor/tjejer och transpersoner. \nInstruktör Malin Wennergren.
URL:https://gavle.vansterpartiet.se/event/prova-pa-feministiskt-sjavforsvar/
LOCATION:Bistro Silvanum\, Kungsbäcksvägen 32\, Gävle
ATTACH;FMTTYPE=image/jpeg:https://gavle.vansterpartiet.se/files/2019/08/feministiskt-självförsvar.jpg
END:VEVENT
BEGIN:VEVENT
DTSTART;TZID=Europe/Stockholm:20190907T110000
DTEND;TZID=Europe/Stockholm:20190907T200000
DTSTAMP:20260421T163553
CREATED:20190607T093458Z
LAST-MODIFIED:20190814T214822Z
UID:3857-1567854000-1567886400@gavle.vansterpartiet.se
SUMMARY:Jämlikhetsforum Gävle 2019
DESCRIPTION:Jämlikhetsforum på Silvanum den 7 september 2019 \nKungsbäcksvägen 32 \n11:00-12.30 Prova på feministiskt självförsvar. Instruktör\, Malin Wennergren \n13:00 Västsahara den glömda konflikten\, Lotta Johnsson Fornarve är riksdagsledamot (V) och håller i Nätverket för Västsahara i Riksdagen. Limam El Jalil är Polisarios representant i Sverige \n14:00 Löneskillnader och heltidsarbete som norm\, Barbro Andersson\,ordförande Kommunal Mitt \n15:00 Avveckla vinstintressen – utveckla vården\, Göran Dahlgren\, gästprofessor vid University of Liverpool och f.d. chef för Socialdepartementets sjukvårdsenhet \n16:00 Fika och boksignering \n16:30 Sexuella trakasserier på den svenska arbetsmarknaden\, Johanna Rickne\, professor i nationalekonomi vid Stockholms Universitet. \n17:30 Vårdstölden – hur det privata tar från det gemensamma  John Lapidus\, forskare i ekonomisk historia på Handelshögskolan vid Göteborgs universitet \n18:30 Mingel och boksignering \n19 Underhållning med Kollision \nForumbuffé finns att köpa och Bistro Silvanum har rättigheter.
URL:https://gavle.vansterpartiet.se/event/jamlikhetsforum-gavle-2019/
LOCATION:Bistro Silvanum\, Kungsbäcksvägen 32\, Gävle
END:VEVENT
BEGIN:VEVENT
DTSTART;TZID=Europe/Stockholm:20190907T130000
DTEND;TZID=Europe/Stockholm:20190907T140000
DTSTAMP:20260421T163553
CREATED:20190814T212248Z
LAST-MODIFIED:20190814T212248Z
UID:3906-1567861200-1567864800@gavle.vansterpartiet.se
SUMMARY:Västsahara den glömda konflikten
DESCRIPTION:Lotta Johnsson Fornarve och Limam El Jalil: Västsahara den glömda konflikten \nÄr Västsaharakonflikten på väg mot en lösning efter 43 år av ockupation? Västsahara kallas ofta för Afrikas sista koloni. Landet har ockuperats av Marocko sedan 1975\, trots beslut i FN och internationella domstolen i Haag som slagit fast att Västsahara inte tillhör Marocko utan den västsahariska befolkningen. En majoritet av västsaharierna lever sedan 43 år i flyktingläger i Saharas öken i sydöstra Algeriet under svåra förhållanden. \nLotta Johnsson Fornarve är riksdagsledamot (V) och håller i Nätverket för Västsahara i Riksdagen. Limam El Jalil är Polisarios representant i Sverige. \nAlla är välkomna.
URL:https://gavle.vansterpartiet.se/event/vastsahara-den-glomda-konflikten/
LOCATION:Bistro Silvanum\, Kungsbäcksvägen 32\, Gävle
END:VEVENT
BEGIN:VEVENT
DTSTART;TZID=Europe/Stockholm:20190907T140000
DTEND;TZID=Europe/Stockholm:20190907T150000
DTSTAMP:20260421T163553
CREATED:20190814T212946Z
LAST-MODIFIED:20190814T212946Z
UID:3909-1567864800-1567868400@gavle.vansterpartiet.se
SUMMARY:Löneskillnader och heltidsarbete som norm
DESCRIPTION:Ett jämställt och jämlikt arbetsliv ska präglas av likvärdiga villkor och förutsättningar. Hur ser det ut nu\, går det åt rätt håll? Varför ser det ut som det gör\, finns det historiska förklaringar? Vad kan vi göra i våra olika roller? \nBarbro Andersson är avdelningsordförande i Kommunal Mitt\, som sträcker sig över Gävleborgs och Uppsala län. \n”- Jag är en glad\, stolt och trygg kommunalare som drivs av att utveckla och göra saker bättre\, i såväl jämställdhetsfrågor som i arbetsmiljöfrågor. Jag kommer från Söderhamn\, har mitt kontor här i Gävle\, men verkar över båda länen. Jag är undersköterska och har den största delen av mitt yrkesliv arbetat inom funktionsvariationsomsorgen”.
URL:https://gavle.vansterpartiet.se/event/loneskillnader-och-heltidsarbete-som-norm/
LOCATION:Bistro Silvanum\, Kungsbäcksvägen 32\, Gävle
END:VEVENT
BEGIN:VEVENT
DTSTART;TZID=Europe/Stockholm:20190907T150000
DTEND;TZID=Europe/Stockholm:20190907T160000
DTSTAMP:20260421T163553
CREATED:20190814T213527Z
LAST-MODIFIED:20190814T213527Z
UID:3912-1567868400-1567872000@gavle.vansterpartiet.se
SUMMARY:Avveckla vinstintressen - utveckla vården
DESCRIPTION:Vinstintressen styr i allt högre grad den skattefinansierade sjukvården. Det ökar de sociala och geografiska skillnaderna i vårdens tillgänglighet och kvalitet. Denna olagliga och oetiska kommersialisering av hälso- och sjukvården måste brytas. I detta inlägg presenteras en strategi för en avveckling av vinstintressen och utveckling av en bättre och jämlikare vård. \nGöran Dahlgren är gästprofessor vid University of Liverpool och f.d. chef för Socialdepartementets sjukvårdsenhet. \nAlla är välkomna. Efter föreläsningen blir det boksignering och vi bjuder på fika.
URL:https://gavle.vansterpartiet.se/event/avveckla-vinstintressen-utveckla-varden/
LOCATION:Bistro Silvanum\, Kungsbäcksvägen 32\, Gävle
END:VEVENT
BEGIN:VEVENT
DTSTART;TZID=Europe/Stockholm:20190907T163000
DTEND;TZID=Europe/Stockholm:20190907T173000
DTSTAMP:20260421T163553
CREATED:20190814T214121Z
LAST-MODIFIED:20190814T214121Z
UID:3915-1567873800-1567877400@gavle.vansterpartiet.se
SUMMARY:Sexuella trakasserier på den svenska arbetsmarknaden
DESCRIPTION:Johanna Rickne har undersökt mönster av trakasserier mellan yrken och arbetsplatser\, samt hur graden av trakasserier varierar med löneläget. Leder trakasserier till att människor slutar på sina jobb och/eller byter till andra typer av arbetsplatser? Rickne försöker förstå om sexuella trakasserier bidrar till könslönegapet och till segregering av män och kvinnor på arbetsmarknaden. \nJohanna Rickne är professor i nationalekonomi vid Stockholms Universitet. Hennes forskning handlar om jämställdhet och arbetsmarknad. Hon har undervisat vid Yale University och på Columbia University\, och hennes forskning har publicerats i en rad framstående tidskrifter som American Political Science Review och American Economic Review. \nAlla är välkomna.
URL:https://gavle.vansterpartiet.se/event/sexuella-trakasserier-pa-den-svenska-arbetsmarknaden/
LOCATION:Bistro Silvanum\, Kungsbäcksvägen 32\, Gävle
END:VEVENT
BEGIN:VEVENT
DTSTART;TZID=Europe/Stockholm:20190907T173000
DTEND;TZID=Europe/Stockholm:20190907T183000
DTSTAMP:20260421T163553
CREATED:20190814T214503Z
LAST-MODIFIED:20190814T214503Z
UID:3918-1567877400-1567881000@gavle.vansterpartiet.se
SUMMARY:Vårdstölden - hur det privata tar från det gemensamma
DESCRIPTION:Vad händer med välfärden när 650 000 personer tecknar privat sjukvårdsförsäkring? John Lapidus visar hur det gemensamma urholkas i takt med att fler medborgare får en gräddfil till offentligt finansierade vårdinrättningar. \nJohn Lapidus är forskare i ekonomisk historia på Handelshögskolan vid Göteborgs universitet \nAlla är välkomna. Efteråt blir det boksignering och sedan följer mingel och underhållning.
URL:https://gavle.vansterpartiet.se/event/vardstolden-hur-det-privata-tar-fran-det-gemensamma/
LOCATION:Bistro Silvanum\, Kungsbäcksvägen 32\, Gävle
END:VEVENT
BEGIN:VEVENT
DTSTART;TZID=Europe/Stockholm:20190907T190000
DTEND;TZID=Europe/Stockholm:20190907T200000
DTSTAMP:20260421T163553
CREATED:20190814T214626Z
LAST-MODIFIED:20190814T214626Z
UID:3921-1567882800-1567886400@gavle.vansterpartiet.se
SUMMARY:Kollision på Jämlikhetsforum
DESCRIPTION:
URL:https://gavle.vansterpartiet.se/event/kollision-pa-jamlikhetsforum/
LOCATION:Bistro Silvanum\, Kungsbäcksvägen 32\, Gävle
END:VEVENT
BEGIN:VEVENT
DTSTART;TZID=Europe/Stockholm:20190926T180000
DTEND;TZID=Europe/Stockholm:20190926T193000
DTSTAMP:20260421T163553
CREATED:20190923T174424Z
LAST-MODIFIED:20190923T174424Z
UID:3951-1569520800-1569526200@gavle.vansterpartiet.se
SUMMARY:Insikt för handling - läget för klimatkrisen
DESCRIPTION:Om du vill få en kortare sammanfattning av hur det ser ut med klimatet nu\, välkommen och hör på föredraget som hålls av Seppo Laine. Föredraget är på cirka halvtimmen resten av tiden är för diskussion och frågor. Fri entré\, Vänsterpartiet Gävle bjuder på fika. Alla välkomna!  \nSen vill vi tipsa om föredraget ”Hoppet” med Johan Ehrenberg den 7 oktober på Centralteatern för att höra hur vi kan fixa klimatet.
URL:https://gavle.vansterpartiet.se/event/insikt-for-handling-laget-for-klimatkrisen/
LOCATION:Partiföreningens lokal\, Brynäsgatan 38\, Gävle
END:VEVENT
BEGIN:VEVENT
DTSTART;TZID=Europe/Stockholm:20190927T100000
DTEND;TZID=Europe/Stockholm:20190927T180000
DTSTAMP:20260421T163553
CREATED:20190923T193134Z
LAST-MODIFIED:20190923T193134Z
UID:3954-1569578400-1569607200@gavle.vansterpartiet.se
SUMMARY:Fridays for Future!
DESCRIPTION:Klimatfrågan är en global fråga som påverkar oss alla och det är inte bara barnens ansvar.\nAlla behövs och alla räknas!\nDet är en global strejk där även arbetsplatser uppmanas att strejka och manifestera (så stor eller liten del av dagen du kan) tillsammans med skoleleverna. \nAmazonas brinner\, glaciärer smälter\, orkaner ökar\, permafrosten tinar\, extremare väder\, torka\, översvämningar… Fattiga länder blir fattigare vilket bidrar till en större global ojämställdhet. Miljontals människor kommer tvingas fly i framtiden på grund av klimatförändringarna.  \nVi blundar för klimatkrisen och det är inte hållbart. Det är vår skyldighet att värna om planeten vi bor på tillsammans med 7\,7 miljarder människor och miljontals andra arter.  \nVi vill att Parisavtalet och IPCC:s rapport ska följas.\nVi vill att klimatfrågan ska tas på allvar.\nVi vill ha en framtid! \nKOM OCH VISA ERT STÖD OM NI VILL ATT MÄNSKLIGHETEN SKA ÖVERLEVA! \nINGEN ÄR FÖR LITEN FÖR ATT GÖRA SKILLNAD!
URL:https://gavle.vansterpartiet.se/event/fridays-for-future/
LOCATION:Rådhustorget\, Gävle
END:VEVENT
BEGIN:VEVENT
DTSTART;TZID=Europe/Stockholm:20190929T180000
DTEND;TZID=Europe/Stockholm:20190929T200000
DTSTAMP:20260421T163553
CREATED:20190923T193625Z
LAST-MODIFIED:20190923T193625Z
UID:3958-1569780000-1569787200@gavle.vansterpartiet.se
SUMMARY:Start för läsecirkel: Jens Holms bok 'Om inte vi\, vem?'
DESCRIPTION:Vi läser Jens Holms uppmärksammade och rosade bok ”Om inte vi\, vem?” med start söndagen den 29 september kl 18. Därefter träffas vi kl 18 varje söndag till och med den 27 oktober. \nIngen kostnad\, ingen föranmälan\, alla är välkomna. Boken kostar 70 kr och finns att köpa i lokalen.  \nFör frågor mejla gavle@vansterpartiet.se
URL:https://gavle.vansterpartiet.se/event/start-for-lasecirkel-jens-holms-bok-om-inte-vi-vem/
LOCATION:Partiföreningens lokal\, Brynäsgatan 38\, Gävle
END:VEVENT
END:VCALENDAR