BEGIN:VCALENDAR
VERSION:2.0
PRODID:-//Vänsterpartiet Gävle - ECPv6.15.17.1//NONSGML v1.0//EN
CALSCALE:GREGORIAN
METHOD:PUBLISH
X-ORIGINAL-URL:https://gavle.vansterpartiet.se
X-WR-CALDESC:Händelser för Vänsterpartiet Gävle
REFRESH-INTERVAL;VALUE=DURATION:PT1H
X-Robots-Tag:noindex
X-PUBLISHED-TTL:PT1H
BEGIN:VTIMEZONE
TZID:Europe/Stockholm
BEGIN:DAYLIGHT
TZOFFSETFROM:+0100
TZOFFSETTO:+0200
TZNAME:CEST
DTSTART:20180325T010000
END:DAYLIGHT
BEGIN:STANDARD
TZOFFSETFROM:+0200
TZOFFSETTO:+0100
TZNAME:CET
DTSTART:20181028T010000
END:STANDARD
BEGIN:DAYLIGHT
TZOFFSETFROM:+0100
TZOFFSETTO:+0200
TZNAME:CEST
DTSTART:20190331T010000
END:DAYLIGHT
BEGIN:STANDARD
TZOFFSETFROM:+0200
TZOFFSETTO:+0100
TZNAME:CET
DTSTART:20191027T010000
END:STANDARD
BEGIN:DAYLIGHT
TZOFFSETFROM:+0100
TZOFFSETTO:+0200
TZNAME:CEST
DTSTART:20200329T010000
END:DAYLIGHT
BEGIN:STANDARD
TZOFFSETFROM:+0200
TZOFFSETTO:+0100
TZNAME:CET
DTSTART:20201025T010000
END:STANDARD
END:VTIMEZONE
BEGIN:VEVENT
DTSTART;TZID=Europe/Stockholm:20191114T150000
DTEND;TZID=Europe/Stockholm:20191114T170000
DTSTAMP:20260421T140246
CREATED:20190923T204932Z
LAST-MODIFIED:20190923T204932Z
UID:3992-1573743600-1573750800@gavle.vansterpartiet.se
SUMMARY:Sverker Sörlin föreläser 'Ett historiskt perspektiv på samhällsutmaningen'
DESCRIPTION:Föredraget är ca 1 timme\, därefter finns möjlighet till frågor och diskussioner samt fika och eftersnack i foajen. För de som även kommer gå på Hagbert/Malmeus kl 18 så finns soppa/bröd 75 kr 16.30-18.00. \nSverker Sördlin\, Professor i miljöhistoria\, författare\, medlem i Klimatpolitiska rådet \nSverker har skrivit boken Antropocen\, en essä om människans tidsålder och nu senast medförfattare till boken ”The Environment. A history of the idea” tillsammans med Libby Robin och Paul Warde. Det är ur miljöbegreppet den så viktiga jordsystemvetenskapen föddes.  \nMer information kommer. \nUnder hösten arrangerar Omställning Gävle en seminarieserie på tema Ekonomi\, ekologi och hållbarhet som vi givit titeln ”Måste vi förstå det ekonomiska systemet för att rädda klimatet?” \nFinanssystemet\, penningsystemet och banksystemet är alla centrala delar av det ekonomiska systemet. De har påverkats starkt av globaliseringen\, digitaliseringen samt av den nyliberala era som dominerat senaste 30 åren. Systemens funktion och verkan har till delar förändrats i grunden\, även utan aktiva politiska strukturbeslut.  \nVi vill genom denna seminarieserie lyfta fram hur det har förändrats\, och hur det faktiskt fungerar idag. Under tiden vill vi ställa oss följande frågor:\n• Hur är ekonomiska systemet kopplat till ekologiska systemet?\n• Bidrar dagens ekonomiska system positivt till samhälle och miljön?\n• Vilka ekonomiska systemreformer krävs för att stödja en klimatomställningen?  \nHela seminarieserien\n3 oktober – Marianne Påsse\n17 oktober – Samuel Kazen Orrefur\n14 november – Sverker Sörlin\n14 november – Pernilla Hagbert och Mikael Malmeus\n5 december – Anders Wijkman \nMålgruppen för seminarieserien är alla medborgare som i sina respektive värv vill ta ansvar och bidra till en så bra omställning som möjligt. Vi vill erbjuda denna seminarieserie till företag & näringsliv\, samhälle & individer i Gävle. \nVi tror det är viktigare än någonsin tidigare att skapa en bred allmän förståelse för det ekonomiska system vi idag verkar inom\, hur det har påverkats av senaste 30 årens digitalisering och globalisering\, och hur det sätter våra ramar och förutsättningar för omställning och samskapande av framtida\, hållbart näringsliv och samhälle. För företag och individ.  \nBidragsgivare/Sponsorer\nSven Lübecks Insamlingsstiftelse\nMiljöpartiet Gävle\nVänsterpartiet Gävle \nOm Omställning Gävle \nMedierna rapporterar dagligen om kriser som rör miljö och samhälle. Situationen blir allt mer ohållbar. Vi i Omställning Gävle tror att vi bäst möter dessa utmaningar genom att tänka nytt och framför allt genom att jobba lokalt för omställning till ett hållbart samhälle. Vi har funnits i tio år och tagit initiativ till många aktiviteter och nått ut till många människor. Vi satsar nu stort på att utveckla verksamheten och bli fler aktiva.  \nFöreningen\, som är politiskt obunden\, är för närvarande indelade i följande arbetsgrupper. Varje grupp tar initiativ till aktiviteter inom sina fokusområden: Mat\, stad och land/Kommunikation och kultur/Ekologiskt byggande och energi/Ekonomi och ekologi/Klimat. Det är arbetsgruppen Ekonomi och ekologi som är initiativtagare och arrangör av höstens seminarieserie.
URL:https://gavle.vansterpartiet.se/event/sverker-sorlin-forelaser-ett-historiskt-perspektiv-pa-samhallsutmaningen/
END:VEVENT
BEGIN:VEVENT
DTSTART;TZID=Europe/Stockholm:20191128T180000
DTEND;TZID=Europe/Stockholm:20191128T200000
DTSTAMP:20260421T140246
CREATED:20190923T205329Z
LAST-MODIFIED:20190923T205329Z
UID:3998-1574964000-1574971200@gavle.vansterpartiet.se
SUMMARY:Medlemsmöte
DESCRIPTION:Medlemsmöte i partilokalen
URL:https://gavle.vansterpartiet.se/event/medlemsmote-23/
LOCATION:Partiföreningens lokal\, Brynäsgatan 38\, Gävle
ATTACH;FMTTYPE=image/jpeg:https://gavle.vansterpartiet.se/files/2015/04/11103040_974436302590522_6036843704281277073_o.jpg
END:VEVENT
END:VCALENDAR