BEGIN:VCALENDAR
VERSION:2.0
PRODID:-//Vänsterpartiet Gävle - ECPv6.15.17.1//NONSGML v1.0//EN
CALSCALE:GREGORIAN
METHOD:PUBLISH
X-WR-CALNAME:Vänsterpartiet Gävle
X-ORIGINAL-URL:https://gavle.vansterpartiet.se
X-WR-CALDESC:Händelser för Vänsterpartiet Gävle
REFRESH-INTERVAL;VALUE=DURATION:PT1H
X-Robots-Tag:noindex
X-PUBLISHED-TTL:PT1H
BEGIN:VTIMEZONE
TZID:Europe/Stockholm
BEGIN:DAYLIGHT
TZOFFSETFROM:+0100
TZOFFSETTO:+0200
TZNAME:CEST
DTSTART:20180325T010000
END:DAYLIGHT
BEGIN:STANDARD
TZOFFSETFROM:+0200
TZOFFSETTO:+0100
TZNAME:CET
DTSTART:20181028T010000
END:STANDARD
BEGIN:DAYLIGHT
TZOFFSETFROM:+0100
TZOFFSETTO:+0200
TZNAME:CEST
DTSTART:20190331T010000
END:DAYLIGHT
BEGIN:STANDARD
TZOFFSETFROM:+0200
TZOFFSETTO:+0100
TZNAME:CET
DTSTART:20191027T010000
END:STANDARD
BEGIN:DAYLIGHT
TZOFFSETFROM:+0100
TZOFFSETTO:+0200
TZNAME:CEST
DTSTART:20200329T010000
END:DAYLIGHT
BEGIN:STANDARD
TZOFFSETFROM:+0200
TZOFFSETTO:+0100
TZNAME:CET
DTSTART:20201025T010000
END:STANDARD
END:VTIMEZONE
BEGIN:VEVENT
DTSTART;TZID=Europe/Stockholm:20191205T180000
DTEND;TZID=Europe/Stockholm:20191205T200000
DTSTAMP:20260421T124141
CREATED:20190923T205535Z
LAST-MODIFIED:20190923T205535Z
UID:4000-1575568800-1575576000@gavle.vansterpartiet.se
SUMMARY:Anders Wijkman 'Ett ekonomiskt perspektiv på samhällsutmaningen'
DESCRIPTION:Föreläsningen är ca 1 timme. Därefter fika och eftersnack i foajen. \nAnders Wikjman\, är en av två ordföranden i Romklubben\nHan är en flitig debattör och författare samt tidigare EU-parlamentariker. Tillsammans med miljöprofessor Johan Rockström har han skrivit två böcker: ”Den stora förnekelsen” och ”Bankrupting Nature”. Han har också varit generalsekreterare för Röda Korset och för Naturskyddsföreningen. Han har även arbetat med utvecklingsfrågor inom FN och haft många officiella uppdrag kring miljö och hållbarhetsfrågor. Som opinionsbildare har han bland annat framfört kritiska synpunkter på vårt nuvarande ekonomiska system. \nUnder hösten arrangerar Omställning Gävle en seminarieserie på tema Ekonomi\, ekologi och hållbarhet som vi givit titeln ”Måste vi förstå det ekonomiska systemet för att rädda klimatet?” \nFinanssystemet\, penningsystemet och banksystemet är alla centrala delar av det ekonomiska systemet. De har påverkats starkt av globaliseringen\, digitaliseringen samt av den nyliberala era som dominerat senaste 30 åren. Systemens funktion och verkan har till delar förändrats i grunden\, även utan aktiva politiska strukturbeslut.  \nVi vill genom denna seminarieserie lyfta fram hur det har förändrats\, och hur det faktiskt fungerar idag. Under tiden vill vi ställa oss följande frågor:\n• Hur är ekonomiska systemet kopplat till ekologiska systemet?\n• Bidrar dagens ekonomiska system positivt till samhälle och miljön?\n• Vilka ekonomiska systemreformer krävs för att stödja en klimatomställningen?  \nHela seminarieserien\n3 oktober – Marianne Påsse\n17 oktober – Samuel Kazen Orrefur\n14 november – Sverker Sörlin\n14 november – Pernilla Hagbert och Mikael Malmeus\n5 december – Anders Wijkman \nMålgruppen för seminarieserien är alla medborgare som i sina respektive värv vill ta ansvar och bidra till en så bra omställning som möjligt. Vi vill erbjuda denna seminarieserie till företag & näringsliv\, samhälle & individer i Gävle. \nVi tror det är viktigare än någonsin tidigare att skapa en bred allmän förståelse för det ekonomiska system vi idag verkar inom\, hur det har påverkats av senaste 30 årens digitalisering och globalisering\, och hur det sätter våra ramar och förutsättningar för omställning och samskapande av framtida\, hållbart näringsliv och samhälle. För företag och individ.  \nBidragsgivare/Sponsorer\nSven Lübecks Insamlingsstiftelse\nMiljöpartiet Gävle\nVänsterpartiet Gävle \nOm Omställning Gävle \nMedierna rapporterar dagligen om kriser som rör miljö och samhälle. Situationen blir allt mer ohållbar. Vi i Omställning Gävle tror att vi bäst möter dessa utmaningar genom att tänka nytt och framför allt genom att jobba lokalt för omställning till ett hållbart samhälle. Vi har funnits i tio år och tagit initiativ till många aktiviteter och nått ut till många människor. Vi satsar nu stort på att utveckla verksamheten och bli fler aktiva.  \nFöreningen\, som är politiskt obunden\, är för närvarande indelade i följande arbetsgrupper. Varje grupp tar initiativ till aktiviteter inom sina fokusområden: Mat\, stad och land/Kommunikation och kultur/Ekologiskt byggande och energi/Ekonomi och ekologi/Klimat. Det är arbetsgruppen Ekonomi och ekologi som är initiativtagare och arrangör av höstens seminarieserie.
URL:https://gavle.vansterpartiet.se/event/anders-wijkman-ett-ekonomiskt-perspektiv-pa-samhallsutmaningen/
END:VEVENT
BEGIN:VEVENT
DTSTART;TZID=Europe/Stockholm:20191212T180000
DTEND;TZID=Europe/Stockholm:20191212T190000
DTSTAMP:20260421T124141
CREATED:20190923T205752Z
LAST-MODIFIED:20190923T205752Z
UID:4003-1576173600-1576177200@gavle.vansterpartiet.se
SUMMARY:Kort medlemsmöte
DESCRIPTION:Musikhuset/Sjömanskyrkan\, kort medlemsmöte där vi bjuder på gröt och macka. Kl 19: Lisa Röstlund reporter på Dagens Nyheter\, kommer och berättar om sin bok ’Konsulterna’ – granskningen av Nya Karolinska och vården.
URL:https://gavle.vansterpartiet.se/event/kort-medlemsmote/
LOCATION:Sjömanskyrkan
ATTACH;FMTTYPE=image/jpeg:https://gavle.vansterpartiet.se/files/2014/09/V-logga_CMYK_Rod.jpg
END:VEVENT
BEGIN:VEVENT
DTSTART;TZID=Europe/Stockholm:20191212T190000
DTEND;TZID=Europe/Stockholm:20191212T210000
DTSTAMP:20260421T124141
CREATED:20190916T204327Z
LAST-MODIFIED:20190916T204414Z
UID:3948-1576177200-1576184400@gavle.vansterpartiet.se
SUMMARY:Konsulterna: kampen om Karolinska
DESCRIPTION:Konsulterna – granskningen av Karolinska och vården i Sverige \nLisa Röstlund\, reporter på Dagens Nyheters och ursprungligen från Gävle stad\, berättar om sin bok Konsulterna och granskningen av Nya Karolinska och vården.\nTillsammans med kollegan Anna Gustafsson har hon granskat haveriet och avslöjat hur konsulter sålt in ett nytt\, oprövat koncept inte bara till universitetssjukhuset utan till politiker för att stöpa om vården i hela Sverige och världen. Granskningen har nominerats till Stora Journalistpriset och Guldspaden. \n12 december 2019 kl 19-21\, Musikhuset Sjömanskyrkan\, Gävle \nKostnadsfritt\, vi bjuder på gröt och macka.
URL:https://gavle.vansterpartiet.se/event/konsulterna-kampen-om-karolinska/
LOCATION:Sjömanskyrkan
END:VEVENT
END:VCALENDAR