BEGIN:VCALENDAR
VERSION:2.0
PRODID:-//Vänsterpartiet Gävle - ECPv6.15.17.1//NONSGML v1.0//EN
CALSCALE:GREGORIAN
METHOD:PUBLISH
X-ORIGINAL-URL:https://gavle.vansterpartiet.se
X-WR-CALDESC:Händelser för Vänsterpartiet Gävle
REFRESH-INTERVAL;VALUE=DURATION:PT1H
X-Robots-Tag:noindex
X-PUBLISHED-TTL:PT1H
BEGIN:VTIMEZONE
TZID:Europe/Stockholm
BEGIN:DAYLIGHT
TZOFFSETFROM:+0100
TZOFFSETTO:+0200
TZNAME:CEST
DTSTART:20190331T010000
END:DAYLIGHT
BEGIN:STANDARD
TZOFFSETFROM:+0200
TZOFFSETTO:+0100
TZNAME:CET
DTSTART:20191027T010000
END:STANDARD
BEGIN:DAYLIGHT
TZOFFSETFROM:+0100
TZOFFSETTO:+0200
TZNAME:CEST
DTSTART:20200329T010000
END:DAYLIGHT
BEGIN:STANDARD
TZOFFSETFROM:+0200
TZOFFSETTO:+0100
TZNAME:CET
DTSTART:20201025T010000
END:STANDARD
BEGIN:DAYLIGHT
TZOFFSETFROM:+0100
TZOFFSETTO:+0200
TZNAME:CEST
DTSTART:20210328T010000
END:DAYLIGHT
BEGIN:STANDARD
TZOFFSETFROM:+0200
TZOFFSETTO:+0100
TZNAME:CET
DTSTART:20211031T010000
END:STANDARD
END:VTIMEZONE
BEGIN:VEVENT
DTSTART;TZID=Europe/Stockholm:20200121T180000
DTEND;TZID=Europe/Stockholm:20200121T200000
DTSTAMP:20260421T113112
CREATED:20200120T205948Z
LAST-MODIFIED:20200120T210310Z
UID:4051-1579629600-1579636800@gavle.vansterpartiet.se
SUMMARY:Hanna Cederin om nya partiprogrammet
DESCRIPTION:Hanna Cederin har varit sammankallande i programkommissionen. Kom och diskutera de nya förslagen som det ska beslutas om på partikongressen den 21-24 maj 2020.\nHanna Cederin var förbundsordförande för Ung Vänster 2015-2017 och är instruktör i feministiskt självförsvar.
URL:https://gavle.vansterpartiet.se/event/hanna-cederin-om-nya-partiprogrammet/
LOCATION:ABF Gästrikebygden\, Brunnsgatan 56\, Gävle\, Sverige
END:VEVENT
END:VCALENDAR