BEGIN:VCALENDAR
VERSION:2.0
PRODID:-//Vänsterpartiet Gävle - ECPv6.15.17.1//NONSGML v1.0//EN
CALSCALE:GREGORIAN
METHOD:PUBLISH
X-WR-CALNAME:Vänsterpartiet Gävle
X-ORIGINAL-URL:https://gavle.vansterpartiet.se
X-WR-CALDESC:Händelser för Vänsterpartiet Gävle
REFRESH-INTERVAL;VALUE=DURATION:PT1H
X-Robots-Tag:noindex
X-PUBLISHED-TTL:PT1H
BEGIN:VTIMEZONE
TZID:Europe/Stockholm
BEGIN:DAYLIGHT
TZOFFSETFROM:+0100
TZOFFSETTO:+0200
TZNAME:CEST
DTSTART:20190331T010000
END:DAYLIGHT
BEGIN:STANDARD
TZOFFSETFROM:+0200
TZOFFSETTO:+0100
TZNAME:CET
DTSTART:20191027T010000
END:STANDARD
BEGIN:DAYLIGHT
TZOFFSETFROM:+0100
TZOFFSETTO:+0200
TZNAME:CEST
DTSTART:20200329T010000
END:DAYLIGHT
BEGIN:STANDARD
TZOFFSETFROM:+0200
TZOFFSETTO:+0100
TZNAME:CET
DTSTART:20201025T010000
END:STANDARD
BEGIN:DAYLIGHT
TZOFFSETFROM:+0100
TZOFFSETTO:+0200
TZNAME:CEST
DTSTART:20210328T010000
END:DAYLIGHT
BEGIN:STANDARD
TZOFFSETFROM:+0200
TZOFFSETTO:+0100
TZNAME:CET
DTSTART:20211031T010000
END:STANDARD
END:VTIMEZONE
BEGIN:VEVENT
DTSTART;TZID=Europe/Stockholm:20200427T100000
DTEND;TZID=Europe/Stockholm:20200427T210000
DTSTAMP:20260421T074403
CREATED:20200426T083330Z
LAST-MODIFIED:20200426T083551Z
UID:4073-1587981600-1588021200@gavle.vansterpartiet.se
SUMMARY:Digitalt 1 maj
DESCRIPTION:Då vi inte kan träffas på riktigt för demonstration 1 maj så kör vi hela veckan en digital demonstration på Facebook och Instagram. \nTa en bild på valfri slogan eller alla\, du får gärna vara med också\, tagga Vänsterpartiet Gävle och en kompis eller fler och använd #förstamajdigitaldemostration #vänsterpartietgävle #förstamaj \nDen 1 maj kl 21 drar vi en vinnare som får biobiljetter.
URL:https://gavle.vansterpartiet.se/event/digitalt-1-maj/
END:VEVENT
END:VCALENDAR