BEGIN:VCALENDAR
VERSION:2.0
PRODID:-//Vänsterpartiet Gävle - ECPv6.15.17.1//NONSGML v1.0//EN
CALSCALE:GREGORIAN
METHOD:PUBLISH
X-ORIGINAL-URL:https://gavle.vansterpartiet.se
X-WR-CALDESC:Händelser för Vänsterpartiet Gävle
REFRESH-INTERVAL;VALUE=DURATION:PT1H
X-Robots-Tag:noindex
X-PUBLISHED-TTL:PT1H
BEGIN:VTIMEZONE
TZID:Europe/Stockholm
BEGIN:DAYLIGHT
TZOFFSETFROM:+0100
TZOFFSETTO:+0200
TZNAME:CEST
DTSTART:20190331T010000
END:DAYLIGHT
BEGIN:STANDARD
TZOFFSETFROM:+0200
TZOFFSETTO:+0100
TZNAME:CET
DTSTART:20191027T010000
END:STANDARD
BEGIN:DAYLIGHT
TZOFFSETFROM:+0100
TZOFFSETTO:+0200
TZNAME:CEST
DTSTART:20200329T010000
END:DAYLIGHT
BEGIN:STANDARD
TZOFFSETFROM:+0200
TZOFFSETTO:+0100
TZNAME:CET
DTSTART:20201025T010000
END:STANDARD
BEGIN:DAYLIGHT
TZOFFSETFROM:+0100
TZOFFSETTO:+0200
TZNAME:CEST
DTSTART:20210328T010000
END:DAYLIGHT
BEGIN:STANDARD
TZOFFSETFROM:+0200
TZOFFSETTO:+0100
TZNAME:CET
DTSTART:20211031T010000
END:STANDARD
END:VTIMEZONE
BEGIN:VEVENT
DTSTART;TZID=Europe/Stockholm:20200523T120000
DTEND;TZID=Europe/Stockholm:20200523T160000
DTSTAMP:20260421T062043
CREATED:20200520T064618Z
LAST-MODIFIED:20200520T064648Z
UID:4102-1590235200-1590249600@gavle.vansterpartiet.se
SUMMARY:Digital röd lördag
DESCRIPTION:Digital röd lördag på Facebook \nLive 23 maj 12:00 \n\nLisa Pehrsdotter\, kvinnojouren Blåklockans ordförande\nFredrik Åberg Jönsson (v)\, regionråd\, Region Gävleborg\nNyheter\nBoktips
URL:https://gavle.vansterpartiet.se/event/digital-rod-lordag/
END:VEVENT
BEGIN:VEVENT
DTSTART;TZID=Europe/Stockholm:20200530T120000
DTEND;TZID=Europe/Stockholm:20200530T140000
DTSTAMP:20260421T062043
CREATED:20200527T145218Z
LAST-MODIFIED:20200527T145218Z
UID:4109-1590840000-1590847200@gavle.vansterpartiet.se
SUMMARY:Digital Röd lördag på Facebook
DESCRIPTION:Digital röd lördag på Facebook \nLördagen den 30 maj Live 12:00 \n\nLotta Lagnander (V)\, Pride och HBTQ-politik\nHamnarbetarförbundet avd 11 ordförande Tommy Ternström kommenterar LAS-utredningen\nAnnica Enroth Hyresgästföreningen\, Konsekvenser av Gavlegårdarnas utförsäljning\nNyheter\nBoktips
URL:https://gavle.vansterpartiet.se/event/digital-rod-lordag-pa-facebook-2020-05-30/
END:VEVENT
END:VCALENDAR