BEGIN:VCALENDAR
VERSION:2.0
PRODID:-//Vänsterpartiet Gävle - ECPv6.15.17.1//NONSGML v1.0//EN
CALSCALE:GREGORIAN
METHOD:PUBLISH
X-ORIGINAL-URL:https://gavle.vansterpartiet.se
X-WR-CALDESC:Händelser för Vänsterpartiet Gävle
REFRESH-INTERVAL;VALUE=DURATION:PT1H
X-Robots-Tag:noindex
X-PUBLISHED-TTL:PT1H
BEGIN:VTIMEZONE
TZID:Europe/Stockholm
BEGIN:DAYLIGHT
TZOFFSETFROM:+0100
TZOFFSETTO:+0200
TZNAME:CEST
DTSTART:20190331T010000
END:DAYLIGHT
BEGIN:STANDARD
TZOFFSETFROM:+0200
TZOFFSETTO:+0100
TZNAME:CET
DTSTART:20191027T010000
END:STANDARD
BEGIN:DAYLIGHT
TZOFFSETFROM:+0100
TZOFFSETTO:+0200
TZNAME:CEST
DTSTART:20200329T010000
END:DAYLIGHT
BEGIN:STANDARD
TZOFFSETFROM:+0200
TZOFFSETTO:+0100
TZNAME:CET
DTSTART:20201025T010000
END:STANDARD
BEGIN:DAYLIGHT
TZOFFSETFROM:+0100
TZOFFSETTO:+0200
TZNAME:CEST
DTSTART:20210328T010000
END:DAYLIGHT
BEGIN:STANDARD
TZOFFSETFROM:+0200
TZOFFSETTO:+0100
TZNAME:CET
DTSTART:20211031T010000
END:STANDARD
END:VTIMEZONE
BEGIN:VEVENT
DTSTART;TZID=Europe/Stockholm:20200820T160000
DTEND;TZID=Europe/Stockholm:20200820T180000
DTSTAMP:20260421T023325
CREATED:20200812T180927Z
LAST-MODIFIED:20200812T180927Z
UID:4118-1597939200-1597946400@gavle.vansterpartiet.se
SUMMARY:Ung HBTQI i Gävle
DESCRIPTION:Vänsterpartiet Gävle har sedan flera år arbetat för och påpekat vikten av en aktiv och organiserad kommunikation med hbtqi-rörelsen i kommunen. Om detta har vi ett pågående samtal med RFSL. Vi bjuder in dig till samtalet som i år framför allt kommer att handla om ungdomar och deras tankar om hbtqi-frågor i skolan\, på fritidsgården\, på fotbollen och hockeyn och i kören eller teatergruppen.\nI samtalet deltar Vänsterpartiets kommunalråd Gin Akgul Hajo och från RFSL deltar Johanna Eskman\, socionom och aktivist samt ungdomar från RFSL. \nVälkommen att delta i lokalen där vi följer rådande rekommendationer från Folkhälsomyndigheten eller delta digitalt. I båda fallen kan du självklart ställa frågor och på annat sätt delta i samtalet. OBS! Den digitala sändningen börjar kl.17. Länk till digitalt deltagande kommer.
URL:https://gavle.vansterpartiet.se/event/ung-hbtqi-i-gavle/
LOCATION:Partiföreningens lokal\, Brynäsgatan 38\, Gävle
ATTACH;FMTTYPE=image/jpeg:https://gavle.vansterpartiet.se/files/2020/08/pride-lokalen.jpg
END:VEVENT
BEGIN:VEVENT
DTSTART;TZID=Europe/Stockholm:20200821T103000
DTEND;TZID=Europe/Stockholm:20200821T120000
DTSTAMP:20260421T023325
CREATED:20200812T181212Z
LAST-MODIFIED:20200812T181212Z
UID:4121-1598005800-1598011200@gavle.vansterpartiet.se
SUMMARY:Våld i samkönade relationer
DESCRIPTION:Vi har nog alla en bild av att våld i nära relationer rör sig om mäns våld mot kvinnor. Få av oss tänker nog att våld även förekommer från man mot man och kvinna mot kvinna. Ett osynligt tyst våld som döljs av skam och okunskap.\nVälkommen till ett panelsamtal med Cecilia Vågberg\, strateg Social hållbarhet med inriktning våld i nära relationer\, Lotta Holmgren från Blåklockan och Johanna Eskman\, RFSL. \nVälkommen att delta i lokalen där vi följer rådande rekommendationer från Folkhälsomyndigheten eller delta digitalt. I båda fallen kan du självklart ställa frågor och på annat sätt delta i samtalet.
URL:https://gavle.vansterpartiet.se/event/vald-i-samkonade-relationer/
LOCATION:Kulturhuset Gävle\, Hamiltongatan 1\, Gävle\, 80266
ATTACH;FMTTYPE=image/jpeg:https://gavle.vansterpartiet.se/files/2020/08/v-pride.jpg
END:VEVENT
BEGIN:VEVENT
DTSTART;TZID=Europe/Stockholm:20200821T150000
DTEND;TZID=Europe/Stockholm:20200821T163000
DTSTAMP:20260421T023325
CREATED:20200812T181506Z
LAST-MODIFIED:20200812T181506Z
UID:4126-1598022000-1598027400@gavle.vansterpartiet.se
SUMMARY:Nu stängs garderobsdörren!
DESCRIPTION:Den 14 augusti släpps Migrationskommitténs betänkande med förslaget till ny Utlänningslag. Ett förslag som innebär en försämring av möjligheten att få asyl och som begränsar möjligheten till familjeåterförening. Förslaget kommer att få allvarliga konsekvenser för asylsökande hbtqi-personer och deras familjer. \nAino Gröndahl\, asylrättsjurist på RFSL deltar i ett panelsamtal tillsammans med Sandra Söderqvist\, Rädda Barnen och Lotta Lagnander\, asylrättsjurist om rättsosäkerheten för asylsökande hbtqi-personer och om Migrationspolitiska kommitténs förslag till ny Utlänningslag.\nVälkommen till lokalen där vi följer rådande rekommendationer från Folkhälsomyndigheten eller delta digitalt. I båda fallen kan du självklart ställa frågor och på annat sätt delta i samtalet. \nLänk för digitalt medverkande publiceras en vecka innan evenemanget.
URL:https://gavle.vansterpartiet.se/event/nu-stangs-garderobsdorren/
LOCATION:Kulturhuset Gävle\, Hamiltongatan 1\, Gävle\, 80266
END:VEVENT
BEGIN:VEVENT
DTSTART;TZID=Europe/Stockholm:20200823T130000
DTEND;TZID=Europe/Stockholm:20200823T150000
DTSTAMP:20260421T023325
CREATED:20200812T181727Z
LAST-MODIFIED:20200812T181727Z
UID:4130-1598187600-1598194800@gavle.vansterpartiet.se
SUMMARY:Afternoon Tea
DESCRIPTION:Traditionsenligt anordnar Vänsterpartiet ett Afternoon Tea i vår partilokal. I år med hbtqi-quiz\, regnbågstårta och umgänge. \nVi samlas i vår lokal där vi följer rådande rekommendationer från Folkhälsomyndigheten. Enbart fysiskt deltagande.
URL:https://gavle.vansterpartiet.se/event/afternoon-tea/
LOCATION:Partiföreningens lokal\, Brynäsgatan 38\, Gävle
ATTACH;FMTTYPE=image/jpeg:https://gavle.vansterpartiet.se/files/2020/08/pride-cake.jpg
END:VEVENT
BEGIN:VEVENT
DTSTART;TZID=Europe/Stockholm:20200830T140000
DTEND;TZID=Europe/Stockholm:20200830T160000
DTSTAMP:20260421T023325
CREATED:20200825T112148Z
LAST-MODIFIED:20200825T112148Z
UID:4163-1598796000-1598803200@gavle.vansterpartiet.se
SUMMARY:Vänsterpartiet Gävle årsmöte 2020
DESCRIPTION:Vänsterpartiet Gävle håller årsmöte söndagen den 30 augusti i Centralteatern fd Folketshus. Adressen är Joe Hill-platsen. \nDeltagandet sker på plats eller digitalt via Zoom. Lokalen är anpassad efter rådande rekommendationer och tar max 50 personer. Kom i tid. Om max antal platser blir tagna hänvisas övriga till att delta via Zoom. Mötet börjar kl 14:00. Vid digitalt deltagande anslut kl 13:30. \nDagordning\, information om digitalt deltagande samt övrig information finns i det mail som gått ut till alla medlemmar.
URL:https://gavle.vansterpartiet.se/event/vansterpartiet-gavle-arsmote-2020/
LOCATION:Folkets Hus\, Joe Hill-platsen\, Gävle
ATTACH;FMTTYPE=image/jpeg:https://gavle.vansterpartiet.se/files/2017/04/V-logga_sRGB.jpg
END:VEVENT
END:VCALENDAR