BEGIN:VCALENDAR
VERSION:2.0
PRODID:-//Vänsterpartiet Gävle - ECPv6.15.17.1//NONSGML v1.0//EN
CALSCALE:GREGORIAN
METHOD:PUBLISH
X-ORIGINAL-URL:https://gavle.vansterpartiet.se
X-WR-CALDESC:Händelser för Vänsterpartiet Gävle
REFRESH-INTERVAL;VALUE=DURATION:PT1H
X-Robots-Tag:noindex
X-PUBLISHED-TTL:PT1H
BEGIN:VTIMEZONE
TZID:Europe/Stockholm
BEGIN:DAYLIGHT
TZOFFSETFROM:+0100
TZOFFSETTO:+0200
TZNAME:CEST
DTSTART:20200329T010000
END:DAYLIGHT
BEGIN:STANDARD
TZOFFSETFROM:+0200
TZOFFSETTO:+0100
TZNAME:CET
DTSTART:20201025T010000
END:STANDARD
BEGIN:DAYLIGHT
TZOFFSETFROM:+0100
TZOFFSETTO:+0200
TZNAME:CEST
DTSTART:20210328T010000
END:DAYLIGHT
BEGIN:STANDARD
TZOFFSETFROM:+0200
TZOFFSETTO:+0100
TZNAME:CET
DTSTART:20211031T010000
END:STANDARD
BEGIN:DAYLIGHT
TZOFFSETFROM:+0100
TZOFFSETTO:+0200
TZNAME:CEST
DTSTART:20220327T010000
END:DAYLIGHT
BEGIN:STANDARD
TZOFFSETFROM:+0200
TZOFFSETTO:+0100
TZNAME:CET
DTSTART:20221030T010000
END:STANDARD
END:VTIMEZONE
BEGIN:VEVENT
DTSTART;TZID=Europe/Stockholm:20210308T193000
DTEND;TZID=Europe/Stockholm:20210308T203000
DTSTAMP:20260420T172652
CREATED:20210306T085517Z
LAST-MODIFIED:20210306T090114Z
UID:4288-1615231800-1615235400@gavle.vansterpartiet.se
SUMMARY:Författarsamtal: Nina Björk (Internationella kvinnodagen)
DESCRIPTION:Nina Björk har skrivit om politik i tjugofem år. Hon slog igenom stort 1996 med debuten Under det rosa täcket\, som blivit en modern feministisk klassiker. Nu är hon aktuell med Om man älskar frihet\, ett försök att tänka filosofiskt kring politik och kring människors liv\, bortom dagspolitiken. Möt Björk i ett samtal med bibliotekarien Daniel Gustavsson.\nFöreläsningen spelas in utan publik på Gävle Stadsbibliotek och visas på Gävle biblioteks Facebook och Youtube. Mer info om hur du kan se sändningen kommer.\nI samarbete med Vänsterpartiet i Gävle\, ABF Gästrikebygden och Kvinnojouren Blåklockan.\nFoto: Erika Nylén\nLänk till Facebook-evenemang
URL:https://gavle.vansterpartiet.se/event/forfattarsamtal-nina-bjork-internationella-kvinnodagen/
LOCATION:Digital
END:VEVENT
END:VCALENDAR