BEGIN:VCALENDAR
VERSION:2.0
PRODID:-//Vänsterpartiet Gävle - ECPv6.15.17.1//NONSGML v1.0//EN
CALSCALE:GREGORIAN
METHOD:PUBLISH
X-WR-CALNAME:Vänsterpartiet Gävle
X-ORIGINAL-URL:https://gavle.vansterpartiet.se
X-WR-CALDESC:Händelser för Vänsterpartiet Gävle
REFRESH-INTERVAL;VALUE=DURATION:PT1H
X-Robots-Tag:noindex
X-PUBLISHED-TTL:PT1H
BEGIN:VTIMEZONE
TZID:Europe/Stockholm
BEGIN:DAYLIGHT
TZOFFSETFROM:+0100
TZOFFSETTO:+0200
TZNAME:CEST
DTSTART:20200329T010000
END:DAYLIGHT
BEGIN:STANDARD
TZOFFSETFROM:+0200
TZOFFSETTO:+0100
TZNAME:CET
DTSTART:20201025T010000
END:STANDARD
BEGIN:DAYLIGHT
TZOFFSETFROM:+0100
TZOFFSETTO:+0200
TZNAME:CEST
DTSTART:20210328T010000
END:DAYLIGHT
BEGIN:STANDARD
TZOFFSETFROM:+0200
TZOFFSETTO:+0100
TZNAME:CET
DTSTART:20211031T010000
END:STANDARD
BEGIN:DAYLIGHT
TZOFFSETFROM:+0100
TZOFFSETTO:+0200
TZNAME:CEST
DTSTART:20220327T010000
END:DAYLIGHT
BEGIN:STANDARD
TZOFFSETFROM:+0200
TZOFFSETTO:+0100
TZNAME:CET
DTSTART:20221030T010000
END:STANDARD
END:VTIMEZONE
BEGIN:VEVENT
DTSTART;TZID=Europe/Stockholm:20210426T160000
DTEND;TZID=Europe/Stockholm:20210501T190000
DTSTAMP:20260420T144951
CREATED:20210424T135750Z
LAST-MODIFIED:20210424T135811Z
UID:4309-1619452800-1619895600@gavle.vansterpartiet.se
SUMMARY:1 maj 2021 med Vänsterpartiet Gävle
DESCRIPTION:Digitala aktiviteter på Facebook och Instagram hela veckan. \nTal med bland annat: \nUlla Andersson (Vänsterpartiet)\nJohan Skyttberg (Handels Gävle)\nJan Stattin\nAnges Åkerlund (Ung vänster)\nFredrik Åberg Jönsson (Vänsterpartiet)\nLinn Johansson\nAnders Berg\nSara Lindberg\nÅse Brigell
URL:https://gavle.vansterpartiet.se/event/1-maj-2021-med-vansterpartiet-gavle/
LOCATION:Facebook och Instagram
ATTACH;FMTTYPE=image/jpeg:https://gavle.vansterpartiet.se/files/2016/04/1-maj.jpg
END:VEVENT
BEGIN:VEVENT
DTSTART;TZID=Europe/Stockholm:20210518T180000
DTEND;TZID=Europe/Stockholm:20210518T200000
DTSTAMP:20260420T144951
CREATED:20210424T140349Z
LAST-MODIFIED:20210424T140424Z
UID:4312-1621360800-1621368000@gavle.vansterpartiet.se
SUMMARY:Medlemsmöte 18 maj
DESCRIPTION:Den 18 maj har vi medlemsmöte. Vi träffas digitalt. \nDå Anita Walther valt att kliva av uppdraget som ledamot i valberedningen genomförs ett fyllnadsval till valberedningen på medlemsmötet.. \nAlla medlemmar har rätt att nominera och styrelsen uppmanar samtliga medlemmar att skicka in förslag på kandidater. \n”Valberedningens uppgift är att granska och värdera de nominerade kandidaterna\, både var för sig och utifrån hur de kan samarbeta och komplettera varandra\, och sedan lägga fram ett väl genomtänkt och avvägt förslag.” \nDu nominerar en person genom att lämna in: \nPersonens namn\nTelefonnummer\nE-postadress\nTänk på att den du nominerar ska vara tillfrågad och ha tackat ja till nomineringen. \nMejla in din nominering till gavle@vansterpartiet.se. \nSista dag att nominera är den 5 maj 2021. Skicka gärna in din nominering så snart som möjligt. \nMed vänliga hälsningar\nStyrelsen i Vänsterpartiet Gävle\, genom Sophia Flybring\, ordförande \n070–270 48 44\nsophia.flybring@hotmail.com
URL:https://gavle.vansterpartiet.se/event/medlemsmote-18-maj-2021/
LOCATION:Digitalt via Zoom
ATTACH;FMTTYPE=image/jpeg:https://gavle.vansterpartiet.se/files/2017/04/V-logga_sRGB.jpg
END:VEVENT
END:VCALENDAR