BEGIN:VCALENDAR
VERSION:2.0
PRODID:-//Vänsterpartiet Gävle - ECPv6.15.17.1//NONSGML v1.0//EN
CALSCALE:GREGORIAN
METHOD:PUBLISH
X-WR-CALNAME:Vänsterpartiet Gävle
X-ORIGINAL-URL:https://gavle.vansterpartiet.se
X-WR-CALDESC:Händelser för Vänsterpartiet Gävle
REFRESH-INTERVAL;VALUE=DURATION:PT1H
X-Robots-Tag:noindex
X-PUBLISHED-TTL:PT1H
BEGIN:VTIMEZONE
TZID:Europe/Stockholm
BEGIN:DAYLIGHT
TZOFFSETFROM:+0100
TZOFFSETTO:+0200
TZNAME:CEST
DTSTART:20210328T010000
END:DAYLIGHT
BEGIN:STANDARD
TZOFFSETFROM:+0200
TZOFFSETTO:+0100
TZNAME:CET
DTSTART:20211031T010000
END:STANDARD
BEGIN:DAYLIGHT
TZOFFSETFROM:+0100
TZOFFSETTO:+0200
TZNAME:CEST
DTSTART:20220327T010000
END:DAYLIGHT
BEGIN:STANDARD
TZOFFSETFROM:+0200
TZOFFSETTO:+0100
TZNAME:CET
DTSTART:20221030T010000
END:STANDARD
BEGIN:DAYLIGHT
TZOFFSETFROM:+0100
TZOFFSETTO:+0200
TZNAME:CEST
DTSTART:20230326T010000
END:DAYLIGHT
BEGIN:STANDARD
TZOFFSETFROM:+0200
TZOFFSETTO:+0100
TZNAME:CET
DTSTART:20231029T010000
END:STANDARD
END:VTIMEZONE
BEGIN:VEVENT
DTSTART;TZID=Europe/Stockholm:20220511T180000
DTEND;TZID=Europe/Stockholm:20220511T193000
DTSTAMP:20260419T195140
CREATED:20220424T173440Z
LAST-MODIFIED:20220424T173440Z
UID:4349-1652292000-1652297400@gavle.vansterpartiet.se
SUMMARY:Valledning
DESCRIPTION:
URL:https://gavle.vansterpartiet.se/event/valledning/
END:VEVENT
BEGIN:VEVENT
DTSTART;TZID=Europe/Stockholm:20220517T180000
DTEND;TZID=Europe/Stockholm:20220517T203000
DTSTAMP:20260419T195140
CREATED:20220519T090753Z
LAST-MODIFIED:20220519T090753Z
UID:4438-1652810400-1652819400@gavle.vansterpartiet.se
SUMMARY:Valledning
DESCRIPTION:
URL:https://gavle.vansterpartiet.se/event/valledning-2/
END:VEVENT
BEGIN:VEVENT
DTSTART;TZID=Europe/Stockholm:20220518T180000
DTEND;TZID=Europe/Stockholm:20220518T200000
DTSTAMP:20260419T195140
CREATED:20220519T090636Z
LAST-MODIFIED:20220519T090636Z
UID:4436-1652896800-1652904000@gavle.vansterpartiet.se
SUMMARY:Fullmäktigegruppen
DESCRIPTION:
URL:https://gavle.vansterpartiet.se/event/fullmaktigegruppen/
END:VEVENT
BEGIN:VEVENT
DTSTART;TZID=Europe/Stockholm:20220518T180000
DTEND;TZID=Europe/Stockholm:20220518T203000
DTSTAMP:20260419T195140
CREATED:20220424T173358Z
LAST-MODIFIED:20220424T173358Z
UID:4347-1652896800-1652905800@gavle.vansterpartiet.se
SUMMARY:Styrelsemöte
DESCRIPTION:
URL:https://gavle.vansterpartiet.se/event/styrelsemote-9/
END:VEVENT
BEGIN:VEVENT
DTSTART;VALUE=DATE:20220520
DTEND;VALUE=DATE:20220521
DTSTAMP:20260419T195140
CREATED:20220426T194944Z
LAST-MODIFIED:20220426T195108Z
UID:4374-1653004800-1653091199@gavle.vansterpartiet.se
SUMMARY:Nooshi besöker Gävle
DESCRIPTION:Nooshi gör ett kort  besök i Gävle för att delta i ABFs folkbildningsdagar
URL:https://gavle.vansterpartiet.se/event/nooshi-besoker-gavle/
END:VEVENT
BEGIN:VEVENT
DTSTART;TZID=Europe/Stockholm:20220525T183000
DTEND;TZID=Europe/Stockholm:20220525T190000
DTSTAMP:20260419T195140
CREATED:20220519T090832Z
LAST-MODIFIED:20220803T200633Z
UID:4440-1653503400-1653505200@gavle.vansterpartiet.se
SUMMARY:Valledning
DESCRIPTION:
URL:https://gavle.vansterpartiet.se/event/valledning-3/
END:VEVENT
BEGIN:VEVENT
DTSTART;TZID=Europe/Stockholm:20220530T180000
DTEND;TZID=Europe/Stockholm:20220530T210000
DTSTAMP:20260419T195140
CREATED:20220519T090906Z
LAST-MODIFIED:20220803T200604Z
UID:4442-1653933600-1653944400@gavle.vansterpartiet.se
SUMMARY:Valledning
DESCRIPTION:
URL:https://gavle.vansterpartiet.se/event/valledning-4/
END:VEVENT
BEGIN:VEVENT
DTSTART;TZID=Europe/Stockholm:20220531T180000
DTEND;TZID=Europe/Stockholm:20220531T200000
DTSTAMP:20260419T195140
CREATED:20220519T091041Z
LAST-MODIFIED:20220519T091041Z
UID:4448-1654020000-1654027200@gavle.vansterpartiet.se
SUMMARY:Kommunalagruppen
DESCRIPTION:
URL:https://gavle.vansterpartiet.se/event/kommunalagruppen/
END:VEVENT
END:VCALENDAR