BEGIN:VCALENDAR
VERSION:2.0
PRODID:-//Vänsterpartiet Gävle - ECPv6.15.17.1//NONSGML v1.0//EN
CALSCALE:GREGORIAN
METHOD:PUBLISH
X-ORIGINAL-URL:https://gavle.vansterpartiet.se
X-WR-CALDESC:Händelser för Vänsterpartiet Gävle
REFRESH-INTERVAL;VALUE=DURATION:PT1H
X-Robots-Tag:noindex
X-PUBLISHED-TTL:PT1H
BEGIN:VTIMEZONE
TZID:Europe/Stockholm
BEGIN:DAYLIGHT
TZOFFSETFROM:+0100
TZOFFSETTO:+0200
TZNAME:CEST
DTSTART:20210328T010000
END:DAYLIGHT
BEGIN:STANDARD
TZOFFSETFROM:+0200
TZOFFSETTO:+0100
TZNAME:CET
DTSTART:20211031T010000
END:STANDARD
BEGIN:DAYLIGHT
TZOFFSETFROM:+0100
TZOFFSETTO:+0200
TZNAME:CEST
DTSTART:20220327T010000
END:DAYLIGHT
BEGIN:STANDARD
TZOFFSETFROM:+0200
TZOFFSETTO:+0100
TZNAME:CET
DTSTART:20221030T010000
END:STANDARD
BEGIN:DAYLIGHT
TZOFFSETFROM:+0100
TZOFFSETTO:+0200
TZNAME:CEST
DTSTART:20230326T010000
END:DAYLIGHT
BEGIN:STANDARD
TZOFFSETFROM:+0200
TZOFFSETTO:+0100
TZNAME:CET
DTSTART:20231029T010000
END:STANDARD
END:VTIMEZONE
BEGIN:VEVENT
DTSTART;TZID=Europe/Stockholm:20220602T180000
DTEND;TZID=Europe/Stockholm:20220602T200000
DTSTAMP:20260419T180900
CREATED:20220426T173008Z
LAST-MODIFIED:20220426T173008Z
UID:4372-1654192800-1654200000@gavle.vansterpartiet.se
SUMMARY:Medlemsmöte
DESCRIPTION:
URL:https://gavle.vansterpartiet.se/event/medlemsmote-25/
LOCATION:Brynäsgatan 38 B
END:VEVENT
BEGIN:VEVENT
DTSTART;TZID=Europe/Stockholm:20220607T180000
DTEND;TZID=Europe/Stockholm:20220607T193000
DTSTAMP:20260419T180900
CREATED:20220519T091010Z
LAST-MODIFIED:20220519T091010Z
UID:4446-1654624800-1654630200@gavle.vansterpartiet.se
SUMMARY:Verkställande utskott
DESCRIPTION:
URL:https://gavle.vansterpartiet.se/event/verkstallande-utskott/
END:VEVENT
BEGIN:VEVENT
DTSTART;TZID=Europe/Stockholm:20220615T180000
DTEND;TZID=Europe/Stockholm:20220615T200000
DTSTAMP:20260419T180900
CREATED:20220601T051123Z
LAST-MODIFIED:20220601T051123Z
UID:4450-1655316000-1655323200@gavle.vansterpartiet.se
SUMMARY:Fullmäktigegruppen
DESCRIPTION:
URL:https://gavle.vansterpartiet.se/event/fullmaktigegruppen-2/
END:VEVENT
BEGIN:VEVENT
DTSTART;TZID=Europe/Stockholm:20220621T180000
DTEND;TZID=Europe/Stockholm:20220621T200000
DTSTAMP:20260419T180900
CREATED:20220519T090941Z
LAST-MODIFIED:20220519T090941Z
UID:4444-1655834400-1655841600@gavle.vansterpartiet.se
SUMMARY:Styrelsemöte
DESCRIPTION:
URL:https://gavle.vansterpartiet.se/event/styrelsemote-10/
END:VEVENT
BEGIN:VEVENT
DTSTART;TZID=Europe/Stockholm:20220628T180000
DTEND;TZID=Europe/Stockholm:20220628T200000
DTSTAMP:20260419T180900
CREATED:20220628T134610Z
LAST-MODIFIED:20220803T200534Z
UID:4474-1656439200-1656446400@gavle.vansterpartiet.se
SUMMARY:Valledning
DESCRIPTION:
URL:https://gavle.vansterpartiet.se/event/valledning-5/
END:VEVENT
END:VCALENDAR